BEGIN:VCALENDAR
VERSION:2.0
PRODID:-//IPM International - ECPv6.15.20//NONSGML v1.0//EN
CALSCALE:GREGORIAN
METHOD:PUBLISH
X-WR-CALNAME:IPM International
X-ORIGINAL-URL:https://www.ipminternational.org
X-WR-CALDESC:Events for IPM International
REFRESH-INTERVAL;VALUE=DURATION:PT1H
X-Robots-Tag:noindex
X-PUBLISHED-TTL:PT1H
BEGIN:VTIMEZONE
TZID:America/New_York
BEGIN:DAYLIGHT
TZOFFSETFROM:-0500
TZOFFSETTO:-0400
TZNAME:EDT
DTSTART:20230312T070000
END:DAYLIGHT
BEGIN:STANDARD
TZOFFSETFROM:-0400
TZOFFSETTO:-0500
TZNAME:EST
DTSTART:20231105T060000
END:STANDARD
BEGIN:DAYLIGHT
TZOFFSETFROM:-0500
TZOFFSETTO:-0400
TZNAME:EDT
DTSTART:20240310T070000
END:DAYLIGHT
BEGIN:STANDARD
TZOFFSETFROM:-0400
TZOFFSETTO:-0500
TZNAME:EST
DTSTART:20241103T060000
END:STANDARD
BEGIN:DAYLIGHT
TZOFFSETFROM:-0500
TZOFFSETTO:-0400
TZNAME:EDT
DTSTART:20250309T070000
END:DAYLIGHT
BEGIN:STANDARD
TZOFFSETFROM:-0400
TZOFFSETTO:-0500
TZNAME:EST
DTSTART:20251102T060000
END:STANDARD
END:VTIMEZONE
BEGIN:VEVENT
DTSTART;TZID=America/New_York:20240704T090000
DTEND;TZID=America/New_York:20240704T170000
DTSTAMP:20260424T213926
CREATED:20240520T152457Z
LAST-MODIFIED:20240520T152457Z
UID:17381-1720083600-1720112400@www.ipminternational.org
SUMMARY:IPMI Annual Meeting
DESCRIPTION:Everyone is invited to attend in person the IPM International Board of Directors and members meeting on July 4\, 2024 at the International Conference Center\, Osceola\, Iowa. This meeting is designed to do the business of the non profit organization but it is so much more than a dry business meeting. \nThe first time I attended\, I was blown away from the positive energy and the inspiration from Spirit for all who attended. Like Mother Teresa used to say\, “I do this work because God does not have arms.” I like to believe that those of us attracted to Spiritual work do so as Spirit can only do so much from the other side. I always attend with the intent of being of service in anyway that I can to assist Spirit to get out the message out about Spiritual Freedom. \nA few years ago\, for convenience\, the annual meeting was held on a weekend day when the 4th fell mid-week. There was just something missing with those meetings and we voted to go back to the 4th as there is so much symbolism in having the meeting on the same day as the United States of America has the annual celebration. \nThis meeting will be available to current members via zoom and materials needed for Proxy\, Pledges of support\, and nomination to the board will be available mid June. In person\, non members are welcome to attend and may have limited participation in the proceedings when cleared in advance. Any questions\, contact via support@ipminternational.org. \nKathleen Ellis\, IPMI President
URL:https://www.ipminternational.org/event/ipmi-annual-meeting/
LOCATION:International Conference Center\, 1447 U.S. 69\, Osceola\, IA 50213\, USA\, Osceola\, United States
CATEGORIES:Camps & Retreats
ATTACH;FMTTYPE=image/jpeg:https://www.ipminternational.org/wp-content/uploads/2024/05/OA-Olympics-097-1.jpg
END:VEVENT
END:VCALENDAR